BEGIN:VCALENDAR
VERSION:2.0
PRODID:-//North West Early Music Forum - ECPv6.15.20//NONSGML v1.0//EN
CALSCALE:GREGORIAN
METHOD:PUBLISH
X-WR-CALNAME:North West Early Music Forum
X-ORIGINAL-URL:https://nwemf.org
X-WR-CALDESC:Events for North West Early Music Forum
REFRESH-INTERVAL;VALUE=DURATION:PT1H
X-Robots-Tag:noindex
X-PUBLISHED-TTL:PT1H
BEGIN:VTIMEZONE
TZID:Europe/London
BEGIN:DAYLIGHT
TZOFFSETFROM:+0000
TZOFFSETTO:+0100
TZNAME:BST
DTSTART:20250330T010000
END:DAYLIGHT
BEGIN:STANDARD
TZOFFSETFROM:+0100
TZOFFSETTO:+0000
TZNAME:GMT
DTSTART:20251026T010000
END:STANDARD
BEGIN:DAYLIGHT
TZOFFSETFROM:+0000
TZOFFSETTO:+0100
TZNAME:BST
DTSTART:20260329T010000
END:DAYLIGHT
BEGIN:STANDARD
TZOFFSETFROM:+0100
TZOFFSETTO:+0000
TZNAME:GMT
DTSTART:20261025T010000
END:STANDARD
BEGIN:DAYLIGHT
TZOFFSETFROM:+0000
TZOFFSETTO:+0100
TZNAME:BST
DTSTART:20270328T010000
END:DAYLIGHT
BEGIN:STANDARD
TZOFFSETFROM:+0100
TZOFFSETTO:+0000
TZNAME:GMT
DTSTART:20271031T010000
END:STANDARD
END:VTIMEZONE
BEGIN:VEVENT
DTSTART;TZID=Europe/London:20260510T140000
DTEND;TZID=Europe/London:20260510T160000
DTSTAMP:20260422T105831
CREATED:20260129T112354Z
LAST-MODIFIED:20260129T175756Z
UID:78435-1778421600-1778428800@nwemf.org
SUMMARY:Vale of Clwyd Singers - Mostly Mozart
DESCRIPTION:A Journey through the European Renaissance Exploring Songs and Chansons Music by Josquin\, Byrd\, Ramsey\, Monteverdi and others Conductor Joe Martin Lutenist - Roger Child Ensemble Partita
URL:https://nwemf.org/event/vale-of-clwyd-singers-mostly-mozart/
LOCATION:St Michael’s Church\, Caerwys\, St Michael's Church\, Caerwys\, Mold\, CH7 5BH\, United Kingdom
CATEGORIES:Concerts
ATTACH;FMTTYPE=image/jpeg:https://nwemf.org/wp-content/uploads/2026/01/VOCS-Poster-St-Michael-Final-small.jpg
END:VEVENT
END:VCALENDAR